Workbook

Sheet Sheet1
A1: Schooljaar | B1: Geldende voor | C1: Vak | D1: Leerweg | N1: Schooljaar | O1: Geldende voor | P1: Vak | Q1: Leerweg
A2: 2022-2023 | B2: 11C – 2023-2025 | N2: 2022-2023 | O2: 11C – 2023-2025
A5: Jaar | B5: Toetscode | C5: Type | D5: Omschrijving | E5: Afnamemoment | F5: Herkansbaar | G5: Examendomein | H5: In CE | I5: Moet in SE | J5: Schooleigen | K5: Weegpercentage PTA | L5: Weegpercentage Rapport | N5: Jaar | O5: Toetscode | P5: Type | Q5: Omschrijving | R5: Afnamemoment | S5: Herkansbaar | T5: Examendomein | U5: In CE | V5: Moet in SE | W5: Schooleigen | X5: Weegpercentage PTA | Y5: Weegpercentage Rapport
A6: Examenjaar | C6: Toets | N6: Examenjaar | P6: Toets
A20: Opmerkingen | K20: Totaal PTA | L20: Totaal Rapport | N20: Opmerkingen | X20: Totaal PTA | Y20: Totaal Rapport
K21: =SUM(Sheet1!$K$6:$K$18) -> 0 | L21: =SUM(Sheet1!$L$6:$L$18) -> 0 | X21: =SUM(Sheet1!$X$6:$X$18) -> 0 | Y21: =SUM(Sheet1!$Y$6:$Y$18) -> 0
A26: Schooljaar | B26: Geldende voor | C26: Vak | D26: Leerweg | N26: Schooljaar | O26: Geldende voor | P26: Vak | Q26: Leerweg
A27: 2022-2023 | B27: 11C – 2023-2025 | N27: 2022-2023 | O27: 11C – 2023-2025
A30: Jaar | B30: Toetscode | C30: Type | D30: Omschrijving | E30: Afnamemoment | F30: Herkansbaar | G30: Examendomein | H30: In CE | I30: Moet in SE | J30: Schooleigen | K30: Weegpercentage PTA | L30: Weegpercentage Rapport | N30: Jaar | O30: Toetscode | P30: Type | Q30: Omschrijving | R30: Afnamemoment | S30: Herkansbaar | T30: Examendomein | U30: In CE | V30: Moet in SE | W30: Schooleigen | X30: Weegpercentage PTA | Y30: Weegpercentage Rapport
A31: Examenjaar | C31: Toets | N31: Examenjaar | P31: Toets
A45: Opmerkingen | K45: Totaal PTA | L45: Totaal Rapport | N45: Opmerkingen | X45: Totaal PTA | Y45: Totaal Rapport
K46: =SUM(Sheet1!$K$31:$K$43) -> 0 | L46: =SUM(Sheet1!$L$31:$L$43) -> 0 | X46: =SUM(Sheet1!$X$31:$X$43) -> 0 | Y46: =SUM(Sheet1!$Y$31:$Y$43) -> 0
A51: Schooljaar | B51: Geldende voor | C51: Vak | D51: Leerweg | N51: Schooljaar | O51: Geldende voor | P51: Vak | Q51: Leerweg
A52: 2022-2023 | B52: 11C – 2023-2025 | N52: 2022-2023 | O52: 11C – 2023-2025
A55: Jaar | B55: Toetscode | C55: Type | D55: Omschrijving | E55: Afnamemoment | F55: Herkansbaar | G55: Examendomein | H55: In CE | I55: Moet in SE | J55: Schooleigen | K55: Weegpercentage PTA | L55: Weegpercentage Rapport | N55: Jaar | O55: Toetscode | P55: Type | Q55: Omschrijving | R55: Afnamemoment | S55: Herkansbaar | T55: Examendomein | U55: In CE | V55: Moet in SE | W55: Schooleigen | X55: Weegpercentage PTA | Y55: Weegpercentage Rapport
A56: Examenjaar | C56: Toets | N56: Examenjaar | P56: Toets | AA56: =IF(AND(#REF!="Nee",#REF!="Nee"),"Schooleigen", "") -> #REF!
AA57: =IF(AND(#REF!="Nee",#REF!="Nee"),"Schooleigen", "") -> #REF!
AA58: =IF(AND(#REF!="Nee",#REF!="Nee"),"Schooleigen", "") -> #REF!
AA59: =IF(AND(#REF!="Nee",#REF!="Nee"),"Schooleigen", "") -> #REF!
AA60: =IF(AND(#REF!="Nee",#REF!="Nee"),"Schooleigen", "") -> #REF!
AA61: =IF(AND(#REF!="Nee",#REF!="Nee"),"Schooleigen", "") -> #REF!
AA62: =IF(AND(#REF!="Nee",#REF!="Nee"),"Schooleigen", "") -> #REF!
AA63: =IF(AND(#REF!="Nee",#REF!="Nee"),"Schooleigen", "") -> #REF!
AA64: =IF(AND(#REF!="Nee",#REF!="Nee"),"Schooleigen", "") -> #REF!
AA65: =IF(AND(#REF!="Nee",#REF!="Nee"),"Schooleigen", "") -> #REF!
AA66: =IF(AND(#REF!="Nee",#REF!="Nee"),"Schooleigen", "") -> #REF!
AA67: =IF(AND(#REF!="Nee",#REF!="Nee"),"Schooleigen", "") -> #REF!
AA68: =IF(AND(#REF!="Nee",#REF!="Nee"),"Schooleigen", "") -> #REF!
A70: Opmerkingen | K70: Totaal PTA | L70: Totaal Rapport | N70: Opmerkingen | X70: Totaal PTA | Y70: Totaal Rapport
K71: =SUM(Sheet1!$K$56:$K$68) -> 0 | L71: =SUM(Sheet1!$L$56:$L$68) -> 0 | X71: =SUM(Sheet1!$X$56:$X$68) -> 0 | Y71: =SUM(Sheet1!$Y$56:$Y$68) -> 0
A76: Schooljaar | B76: Geldende voor | C76: Vak | D76: Leerweg | N76: Schooljaar | O76: Geldende voor | P76: Vak | Q76: Leerweg
A77: 2022-2023 | B77: 11C – 2023-2025 | N77: 2022-2023 | O77: 11C – 2023-2025
A80: Jaar | B80: Toetscode | C80: Type | D80: Omschrijving | E80: Afnamemoment | F80: Herkansbaar | G80: Examendomein | H80: In CE | I80: Moet in SE | J80: Schooleigen | K80: Weegpercentage PTA | L80: Weegpercentage Rapport | N80: Jaar | O80: Toetscode | P80: Type | Q80: Omschrijving | R80: Afnamemoment | S80: Herkansbaar | T80: Examendomein | U80: In CE | V80: Moet in SE | W80: Schooleigen | X80: Weegpercentage PTA | Y80: Weegpercentage Rapport
A81: Examenjaar | C81: Toets | N81: Examenjaar | P81: Toets
A95: Opmerkingen | K95: Totaal PTA | L95: Totaal Rapport | N95: Opmerkingen | X95: Totaal PTA | Y95: Totaal Rapport
K96: =SUM(Sheet1!$K$81:$K$93) -> 0 | L96: =SUM(Sheet1!$L$81:$L$93) -> 0 | X96: =SUM(Sheet1!$X$81:$X$93) -> 0 | Y96: =SUM(Sheet1!$Y$81:$Y$93) -> 0
A101: Schooljaar | B101: Geldende voor | C101: Vak | D101: Leerweg | N101: Schooljaar | O101: Geldende voor | P101: Vak | Q101: Leerweg
A102: 2022-2023 | B102: 11C – 2023-2025 | N102: 2022-2023 | O102: 11C – 2023-2025
A105: Jaar | B105: Toetscode | C105: Type | D105: Omschrijving | E105: Afnamemoment | F105: Herkansbaar | G105: Examendomein | H105: In CE | I105: Moet in SE | J105: Schooleigen | K105: Weegpercentage PTA | L105: Weegpercentage Rapport | N105: Jaar | O105: Toetscode | P105: Type | Q105: Omschrijving | R105: Afnamemoment | S105: Herkansbaar | T105: Examendomein | U105: In CE | V105: Moet in SE | W105: Schooleigen | X105: Weegpercentage PTA | Y105: Weegpercentage Rapport
A106: Examenjaar | C106: Toets | N106: Examenjaar | P106: Toets
...

Sheet MAVO
A1: Geldend voor | C1: Leerweg | D1: Vak
A2: 9M – 2025-2027 | C2: Mavo | D2: Aardrijkskunde
A5: Jaar | B5: Toetscode | C5: Type | D5: Omschrijving | E5: Afnamemoment | F5: Herkansbaar | G5: Examendomein | H5: In CE | I5: Moet in SE | J5: Schooleigen | K5: Weegpercentage PTA | L5: Weegpercentage Rapport | M5: Laptopgebruik
A6: Voorexamenjaar | B6: 3301 | C6: Toets | D6: Arm en rijk* | E6: TW 1 | F6: Ja | G6: AK/K/1/2/3/7/ V/4 | H6: Ja | I6: Ja | J6: Nee | K6: 10
A7: Voorexamenjaar | B7: 3302 | C7: Toets | D7: Bronnen van energie* | E7: TW 2B | F7: Ja | G7: AK/K/1/2/3/5 V/2 | H7: Ja | I7: Ja | J7: Nee | K7: 10
A8: Voorexamenjaar | B8: 3303 | C8: Toets | D8: Grenzen en identiteit* | E8: TW 3 | F8: Ja | G8: AK/K/1/2/3/9 V/6 | H8: Ja | I8: Ja | J8: Nee | K8: 10
A9: Voorexamenjaar | B9: 3304 | C9: Praktische opdracht | D9: Geologie** | E9: Per | F9: Ja | G9: AK/K/1/2/3/ V/7/8 | H9: Ja | I9: Ja | J9: Ja | K9: 10
A10: Examenjaar | B10: 3401 | C10: Toets | D10: Bevolking en ruimte* | E10: TW 1 | F10: Ja | G10: AK/K/8 V/5 | H10: Ja | I10: Ja | J10: Nee | K10: 20
A11: Examenjaar | B11: 3402 | C11: Toets | D11: Weer en klimaat* | E11: Per | F11: Ja | G11: AK/K/4 V/1 | H11: Ja | I11: Ja | J11: Ja | K11: 15
A12: Examenjaar | B12: 3403 | C12: Toets | D12: Water* en Examentraining** | E12: Per | F12: Ja | G12: AK/K/4/6/8 V/1/3/5/7/8 | H12: Ja | I12: Ja | J12: Ja | K12: 25
A28: Opmerkingen
A29: *Zie studiewijzer voor de hoofdstukken | K29: Totaal PTA | L29: Totaal Rapport
A30: ** Zie studiewijzer voor de inhoud van deze periode | K30: =SUM(MAVO!$K$6:$K$26) -> 100 | L30: =SUM(MAVO!$L$6:$L$26) -> 0
A33: Toegestane hulpmiddelen
A34: Woordenboek
A35: Rekenmachine
F39: 9M – 2025-2027 | G39: TW 1 | H39: Ja | I39: PTA | J39: Ja
F40: 10M – 2024-2026 | G40: TW 2A | H40: Nee | I40: Rapport | J40: Nee
F41: 4H – 2025-2027 | G41: TW 2B | H41: Overgangseis | I41: Beide
F42: 5H – 2024-2026 | G42: TW 3
F43: 10V - 2025 - 2028 | G43: Per
F44: 11V – 2024-2027 | G44: Trim 1
D45: Mavo | F45: 12V – 2023-2026 | G45: Trim 2
A46: Aardrijkskunde | C46: Toets | D46: Havo | G46: Trim 3
A47: Biologie | C47: Praktische opdracht | D47: Vwo | E47: 10V
A48: Duits | C48: Presentatie | E48: Voorexamenjaar
A49: Economie | C49: Mondeling | E49: Examenjaar
A50: Engels | C50: Handelingsdeel*
A51: Frans
A52: Geschiedenis
A53: (K)CKV
A54: Kunstvak Beeldende Vormgeving
A55: Kunstvak Dans
A56: Kunstvak Drama
A57: Kunstvak Muziek
A58: Lichamelijke opvoeding
A59: Loopbaan Oriëntatie en Begeleiding (LOB)
A60: Maatschappijleer
A61: Nask 1
A62: Nask 2
...

Sheet HAVO
A1: Geldend voor | C1: Leerweg | D1: Vak
A2: 4H – 2025-2027 | C2: Havo | D2: Aardrijkskunde
A5: Jaar | B5: Toetscode | C5: Type | D5: Omschrijving | E5: Afnamemoment | F5: Herkansbaar | G5: Examendomein | H5: In CE | I5: Moet in SE | J5: Schooleigen | K5: Weegpercentage PTA | L5: Weegpercentage Rapport | M5: Laptopgebruik
A6: Voorexamenjaar | B6: 1401 | C6: Toets | D6: Wereldbeeld | E6: TW 1 | F6: Ja | H6: Nee | J6: Nee | L6: 25
A7: Voorexamenjaar | B7: 1402 | C7: Toets | D7: Klimaat en landschap en wateroverlast | E7: TW 2B | F7: Ja | H7: Nee | J7: Nee | L7: 25
A8: Voorexamenjaar | B8: 1403 | C8: Toets | D8: Periode Weer en klimaatverandering | E8: Per | F8: Ja | G8: A1, A2, C1, C2 | H8: Nee | I8: Nee | J8: Ja | L8: 25
A9: Voorexamenjaar | B9: 2404 | C9: Toets | D9: Stedelijke gebieden | E9: TW 3 | F9: Ja | G9: E1, E2 | H9: Nee | I9: Ja | J9: Nee | K9: 10 | L9: 12.5
A10: Voorexamenjaar | B10: 2405 | C10: Praktische opdracht | D10: PO Onderzoek eigen omgeving | E10: Trim 3 | F10: Nee | G10: A1, A2, E2 | H10: Nee | I10: Ja | J10: Nee | K10: 10 | L10: 12.5
A11: Examenjaar | B11: 3501 | C11: Toets | D11: Globalisering, Brazilië en herhaling Wereld | E11: TW 1 | F11: Ja | G11: B1, B2, B3, D1, D2 | H11: Ja | I11: Ja | J11: Nee | K11: 30
A12: Examenjaar | B12: 2502 | C12: Toets | D12: Endogene en exogene processen | E12: TW 2A | F12: Ja | G12: C1, C2, C3 | H12: Ja | I12: Ja | J12: Nee | K12: 20
A13: Examenjaar | B13: 3503 | C13: Toets | D13: Examentraining | E13: TW 2B | F13: Ja | G13: A1, B2, C2, D1, E1 | H13: Ja | I13: Nee | J13: Nee | K13: 30
A28: Opmerkingen
K29: Totaal PTA | L29: Totaal Rapport
K30: =SUM(HAVO!$K$6:$K$26) -> 100 | L30: =SUM(HAVO!$L$6:$L$26) -> 100
A33: Toegestane hulpmiddelen
A34: Woordenboek
A35: Rekenmachine
F39: 9M – 2025-2027 | G39: TW 1 | H39: Ja | I39: PTA | J39: Ja
F40: 10M – 2024-2026 | G40: TW 2A | H40: Nee | I40: Rapport | J40: Nee
F41: 4H – 2025-2027 | G41: TW 2B | H41: Overgangseis | I41: Beide
F42: 5H – 2024-2026 | G42: TW 3
F43: 10V - 2025 - 2028 | G43: Per
F44: 11V – 2024-2027 | G44: Trim 1
D45: Mavo | F45: 12V – 2023-2026 | G45: Trim 2
A46: Aardrijkskunde | C46: Toets | D46: Havo | G46: Trim 3
A47: Biologie | C47: Praktische opdracht | D47: Vwo | E47: 10V
A48: Duits | C48: Presentatie | E48: Voorexamenjaar
A49: Economie | C49: Mondeling | E49: Examenjaar
A50: Engels | C50: Handelingsdeel*
A51: Filosofie
A52: Frans
A53: Geschiedenis
A54: (K)CKV
A55: Kunstvak Beeldende Vormgeving
A56: Kunstvak Dans
A57: Kunstvak Drama
A58: Kunstvak Muziek
A59: Lichamelijke opvoeding
A60: Loopbaan Oriëntatie en Begeleiding (LOB)
A61: Maatschappijleer
...

Sheet VWO
A1: Geldend voor | C1: Leerweg | D1: Vak
A2: 10V - 2025 - 2028 | C2: Vwo | D2: Aardrijkskunde
A5: Jaar | B5: Toetscode | C5: Type | D5: Omschrijving | E5: Afnamemoment | F5: Herkansbaar | G5: Examendomein | H5: In CE | I5: Moet in SE | J5: Schooleigen | K5: Weegpercentage PTA | L5: Weegpercentage Rapport | M5: Laptopgebruik
A6: 10V | B6: 1401 | C6: Toets | D6: Wereldbeeld | E6: TW 1 | F6: Ja | J6: Nee | L6: 25
A7: 10V | B7: 1402 | C7: Toets | D7: Zuid-Amerika en klimaat deel 1 | E7: TW 2B | F7: Ja | J7: Nee | L7: 25
A8: 10V | B8: 1403 | C8: Toets | D8: Klimaat deel 2 en Wateroverlast | E8: TW 3 | F8: Ja | J8: Nee | L8: 25
A9: 10V | B9: 1404 | C9: Toets | D9: Periode Weer en klimaatverandering | E9: Per | F9: Ja | J9: Ja | L9: 25
A10: Voorexamenjaar | B10: 2501 | C10: Toets | D10: Endogene en exogene processen en Zuid-Amerika | E10: TW 1 | F10: Ja | G10: C1, C2, D1, D2 | H10: Ja | I10: Ja | J10: Nee | K10: 10 | L10: 25
A11: Voorexamenjaar | B11: 2502 | C11: Toets | D11: Globalisering en Zuid-Amerika | E11: TW 2B | F11: Ja | G11: B1, B2, D1, D2 | H11: Ja | I11: Ja | J11: Nee | K11: 15 | L11: 25
A12: Voorexamenjaar | B12: 2503 | C12: Toets | D12: Periode Cartografie | E12: Per | F12: Ja | G12: A1, B1, B2 | H12: Nee | I12: Nee | J12: Ja | K12: 10 | L12: 25
A13: Voorexamenjaar | B13: 2504 | C13: Toets | D13: Stedelijke gebieden Nederland | E13: TW 3 | F13: Ja | G13: E1, E2 | H13: Ja | J13: Nee | K13: 10 | L13: 12
A14: Voorexamenjaar | B14: 2505 | C14: Praktische opdracht | D14: Onderzoek in je eigen omgeving | E14: Trim 3 | F14: Ja | G14: A1, A2, E2 | H14: Nee | I14: Ja | J14: Nee | K14: 10 | L14: 13
A15: Examenjaar | B15: 3601 | C15: Toets | D15: Landschapszones en Middellandse Zeegebied en herhaling Aarde | E15: TW 1 | F15: Ja | G15: C1, C2 | H15: Ja | I15: Ja | J15: Nee | K15: 20
A16: Examenjaar | B16: 3602 | C16: Toets | D16: Stedelijke gebieden in de VS en herhaling Wereld | E16: TW 2A | F16: Ja | G16: B1, B2, E1 | H16: Ja | I16: Nee | J16: Nee | K16: 10
A17: Examenjaar | B17: 3603 | C17: Toets | D17: Eindexamenstof | E17: TW 2B | F17: Ja | G17: A1, B, C, D, E | H17: Ja | I17: Nee | J17: Nee | K17: 15
A28: Opmerkingen
K29: Totaal PTA | L29: Totaal Rapport
K30: =SUM(VWO!$K$6:$K$26) -> 100 | L30: =SUM(VWO!$L$6:$L$26) -> 200
A33: Toegestane hulpmiddelen
A34: Woordenboek
A35: Rekenmachine
F39: 9M – 2025-2027 | G39: TW 1 | H39: Ja | I39: PTA | J39: Ja
F40: 10M – 2024-2026 | G40: TW 2A | H40: Nee | I40: Rapport | J40: Nee
F41: 4H – 2025-2027 | G41: TW 2B | H41: Overgangseis | I41: Beide
F42: 5H – 2024-2026 | G42: TW 3
F43: 10V - 2025 - 2028 | G43: Per
F44: 11V – 2024-2027 | G44: Trim 1
D45: Mavo | F45: 12V – 2023-2026 | G45: Trim 2
A46: Aardrijkskunde | C46: Toets | D46: Havo | G46: Trim 3
A47: Biologie | C47: Praktische opdracht | D47: Vwo | E47: 10V
A48: Duits | C48: Presentatie | E48: Voorexamenjaar
A49: Economie | C49: Mondeling | E49: Examenjaar
A50: Engels | C50: Handelingsdeel*
A51: Filosofie
A52: Frans
A53: Geschiedenis
A54: (K)CKV
A55: Kunstvak Beeldende Vormgeving
A56: Kunstvak Dans
A57: Kunstvak Drama
...
